BEGIN:VCALENDAR
VERSION:2.0
PRODID:-//UECA Ministries - ECPv6.15.20//NONSGML v1.0//EN
CALSCALE:GREGORIAN
METHOD:PUBLISH
X-WR-CALNAME:UECA Ministries
X-ORIGINAL-URL:https://ueca.org
X-WR-CALDESC:Events for UECA Ministries
REFRESH-INTERVAL;VALUE=DURATION:PT1H
X-Robots-Tag:noindex
X-PUBLISHED-TTL:PT1H
BEGIN:VTIMEZONE
TZID:UTC
BEGIN:STANDARD
TZOFFSETFROM:+0000
TZOFFSETTO:+0000
TZNAME:UTC
DTSTART:20230101T000000
END:STANDARD
END:VTIMEZONE
BEGIN:VEVENT
DTSTART;TZID=UTC:20240125T060000
DTEND;TZID=UTC:20240328T073000
DTSTAMP:20260422T180629
CREATED:20240131T231208Z
LAST-MODIFIED:20240131T231255Z
UID:5391-1706162400-1711611000@ueca.org
SUMMARY:Rize N Grind Morning Radio
DESCRIPTION:Its a honor and blessing to promote our brother in Christ radio show: Rize N Grind Morning Praise aired on #Stationhead via http://www.stationhead.com/teamfmg \nThe show presents a strong spiritual network of gospel music\, inspirational speaking and wisdom to start your day off right. Show is hosted by our brother in Christ\, Bishop Smith aka Bishop360 \nThe show is also present on Google\, Apple\, & Spotify podcast network weekly. To know more about the show visit #Stationhead App or email Bishop Smith. \n 
URL:https://ueca.org/event/rize-n-grind-morning-radio/
LOCATION:Stationhead App\, IL\, 61604\, United States
CATEGORIES:Radio Show/Dj
ATTACH;FMTTYPE=image/jpeg:https://ueca.org/wp-content/uploads/stationhead-1050422557.jpg
ORGANIZER;CN="Bishop360":MAILTO:teamfmg@ueca.org
END:VEVENT
END:VCALENDAR