BEGIN:VCALENDAR
VERSION:2.0
PRODID:-//UECA Ministries - ECPv6.15.20//NONSGML v1.0//EN
CALSCALE:GREGORIAN
METHOD:PUBLISH
X-WR-CALNAME:UECA Ministries
X-ORIGINAL-URL:https://ueca.org
X-WR-CALDESC:Events for UECA Ministries
REFRESH-INTERVAL;VALUE=DURATION:PT1H
X-Robots-Tag:noindex
X-PUBLISHED-TTL:PT1H
BEGIN:VTIMEZONE
TZID:UTC
BEGIN:STANDARD
TZOFFSETFROM:+0000
TZOFFSETTO:+0000
TZNAME:UTC
DTSTART:20230101T000000
END:STANDARD
END:VTIMEZONE
BEGIN:VEVENT
DTSTART;TZID=UTC:20250327T080000
DTEND;TZID=UTC:20250327T093000
DTSTAMP:20260422T224517
CREATED:20250324T124136Z
LAST-MODIFIED:20250324T124747Z
UID:6285-1743062400-1743067800@ueca.org
SUMMARY:Morning Praise & Worship Radio
DESCRIPTION:Come join us as we celebrate and give thanks to our Lord and Savior for another day\, another year\, another moment in life. Start your day with praise and worship\, and with some empowerment words that will uplift you throughout your day. Enlighten as well as encouragement from our host and brother in Christ Bishop Smith aka Bishop360\, for these are the times you don’t want to miss. \nYou can tune in to the show by going to https://share.stationhead.com/h10894x6h8j8   or you can download “Stationhead App” from either Goggle Play or Apple Store
URL:https://ueca.org/event/morning-praise-worship-radio/
LOCATION:Stationhead Radio\, Peoria\, IL\, 61604\, United States
CATEGORIES:Online Ministry,Radio Show/Dj
ATTACH;FMTTYPE=image/png:https://ueca.org/wp-content/uploads/2018-wake-up-call-1523293842.png
ORGANIZER;CN="Bishop360":MAILTO:teamfmg@ueca.org
END:VEVENT
BEGIN:VEVENT
DTSTART;TZID=UTC:20250325T080000
DTEND;TZID=UTC:20250325T093000
DTSTAMP:20260422T224517
CREATED:20250324T122520Z
LAST-MODIFIED:20250324T124708Z
UID:6280-1742889600-1742895000@ueca.org
SUMMARY:Morning Worship & Praise Show
DESCRIPTION:Come join us as we celebrate and give thanks to our Lord and Savior for another day\, another year\, another moment in life. Start your day with praise and worship\, and with some empowerment words that will uplift you throughout your day. Enlighten as well as encouragement from our host and brother in Christ Bishop Smith aka Bishop360\, for these are the times you don’t want to miss. \nYou can tune in to the show by going to https://share.stationhead.com/h10894x6h8j8   or you can download “Stationhead App” from either Goggle Play or Apple Store
URL:https://ueca.org/event/morning-worship-praise-show/
LOCATION:Stationhead Radio\, Peoria\, IL\, 61604\, United States
CATEGORIES:Online Ministry,Radio Show/Dj
ATTACH;FMTTYPE=image/jpeg:https://ueca.org/wp-content/uploads/istockphoto-1451776362-612x612-1.jpg
ORGANIZER;CN="Bishop360":MAILTO:teamfmg@ueca.org
END:VEVENT
BEGIN:VEVENT
DTSTART;TZID=UTC:20250219T080000
DTEND;TZID=UTC:20250329T170000
DTSTAMP:20260422T224517
CREATED:20250219T231604Z
LAST-MODIFIED:20250219T231643Z
UID:6217-1739952000-1743267600@ueca.org
SUMMARY:Ministry Updates
DESCRIPTION:As of February 12\, 2025\, we will be doing a full overhaul of the UECA website\, forum\, and package information for all those who are a part of the ministry as well as those who shall visit. It is important that we do so to ensure that we are providing the right information\, as well as a strong spiritual concept that we are called to do. \nAs you know we have been around for a very long time\, and we believe that when God is leading you to change a few things\, one must consider everything that he is placing before you.
URL:https://ueca.org/event/ministry-updates/
LOCATION:Online Ministry
CATEGORIES:Online Ministry
ATTACH;FMTTYPE=image/jpeg:https://ueca.org/wp-content/uploads/xperiencebanner.jpg
ORGANIZER;CN="UECA Online":MAILTO:info-desk@ueca.org
END:VEVENT
BEGIN:VEVENT
DTSTART;TZID=UTC:20240926T080000
DTEND;TZID=UTC:20241101T170000
DTSTAMP:20260422T224517
CREATED:20240926T212212Z
LAST-MODIFIED:20240926T212212Z
UID:5956-1727337600-1730480400@ueca.org
SUMMARY:Broadcasting  Network
DESCRIPTION:On this day and time\, after much prayer and understanding\, it is important for everyone to come together to share the word of God. In order to provide a strong method\, we are working on building a more capable method through broadcasting online\, from video to audio. \nWe are seeking all form of advice\, ideals\, and volunteers who are willing to work together as one so we can make this happen. UECA has been here to be effective in sharing the word of God\, and to help change the lives of so many people. \nIf you are interested\, please contact Senior Bishop –bishopsmith@ueca.org   \n 
URL:https://ueca.org/event/announcement1/
LOCATION:Stationhead App\, IL\, 61604\, United States
CATEGORIES:Radio Show/Dj
ATTACH;FMTTYPE=image/jpeg:https://ueca.org/wp-content/uploads/istockphoto-1451776362-612x612-1.jpg
ORGANIZER;CN="UECA Online":MAILTO:info-desk@ueca.org
END:VEVENT
BEGIN:VEVENT
DTSTART;TZID=UTC:20240311T180000
DTEND;TZID=UTC:20240425T193000
DTSTAMP:20260422T224517
CREATED:20240201T225129Z
LAST-MODIFIED:20240201T225129Z
UID:5410-1710180000-1714073400@ueca.org
SUMMARY:Online Bible Study
DESCRIPTION:It is truly a blessing to be able to announce the up-and-coming online bible study present by ACTS Director Bishop Waters & Bishop Smith\, each study will be presented in a way that will allow you to apply each lesson to your everyday life\, but also grant you the opportunity to seek answer to you’re must deep questions. \nEach study will also host a 30 to 40 minutes discussion group\, to speak upon how you can apply each lesson to your life\, as well as sharing your thoughts about growth\, and spiritual concept as men and women of God. \nIf you are interested and being a part of the study\, you can contact acts-info@ueca.org or if you have the desire to also be a teacher for the study\, please email us and share your purpose why you feel you will make a good instructor. \nMore information and sign up sheet for the study will be presented within the near future.
URL:https://ueca.org/event/online-studies/
LOCATION:ACTS Studies\, Online Studies Site\, Peoria\, IL\, 61604\, United States
CATEGORIES:Biblical Teaching,Online Ministry
ATTACH;FMTTYPE=image/jpeg:https://ueca.org/wp-content/uploads/bible-study-473471276.jpg
ORGANIZER;CN="ACTS Theology School":MAILTO:acts-info@ueca.org
END:VEVENT
BEGIN:VEVENT
DTSTART;TZID=UTC:20240131T160000
DTEND;TZID=UTC:20240305T180000
DTSTAMP:20260422T224517
CREATED:20240131T225347Z
LAST-MODIFIED:20240131T231419Z
UID:5373-1706716800-1709661600@ueca.org
SUMMARY:Ministerial Training
DESCRIPTION:UECA Inc. will be hosting a small introduction of biblical studies & spiritual formation class for those who are interested\, information will be provided soon\, and more course’s will be listed within the next few months.
URL:https://ueca.org/event/ministerial-training/
LOCATION:Online Ministry
CATEGORIES:Fellowship Gathering,Online Ministry
ATTACH;FMTTYPE=image/webp:https://ueca.org/wp-content/uploads/BeTheChurchBanner-Rainbow-NEW-rev_large.webp
ORGANIZER;CN="UECA Online":MAILTO:info-desk@ueca.org
END:VEVENT
BEGIN:VEVENT
DTSTART;TZID=UTC:20240125T060000
DTEND;TZID=UTC:20240328T073000
DTSTAMP:20260422T224517
CREATED:20240131T231208Z
LAST-MODIFIED:20240131T231255Z
UID:5391-1706162400-1711611000@ueca.org
SUMMARY:Rize N Grind Morning Radio
DESCRIPTION:Its a honor and blessing to promote our brother in Christ radio show: Rize N Grind Morning Praise aired on #Stationhead via http://www.stationhead.com/teamfmg \nThe show presents a strong spiritual network of gospel music\, inspirational speaking and wisdom to start your day off right. Show is hosted by our brother in Christ\, Bishop Smith aka Bishop360 \nThe show is also present on Google\, Apple\, & Spotify podcast network weekly. To know more about the show visit #Stationhead App or email Bishop Smith. \n 
URL:https://ueca.org/event/rize-n-grind-morning-radio/
LOCATION:Stationhead App\, IL\, 61604\, United States
CATEGORIES:Radio Show/Dj
ATTACH;FMTTYPE=image/jpeg:https://ueca.org/wp-content/uploads/stationhead-1050422557.jpg
ORGANIZER;CN="Bishop360":MAILTO:teamfmg@ueca.org
END:VEVENT
END:VCALENDAR